BEGIN:VCALENDAR
VERSION:2.0
PRODID:-//Crescent Heights Neighborhood Association - ECPv6.15.17.1//NONSGML v1.0//EN
CALSCALE:GREGORIAN
METHOD:PUBLISH
X-WR-CALNAME:Crescent Heights Neighborhood Association
X-ORIGINAL-URL:https://crescentheightsneighborhood.com
X-WR-CALDESC:Events for Crescent Heights Neighborhood Association
REFRESH-INTERVAL;VALUE=DURATION:PT1H
X-Robots-Tag:noindex
X-PUBLISHED-TTL:PT1H
BEGIN:VTIMEZONE
TZID:UTC
BEGIN:STANDARD
TZOFFSETFROM:+0000
TZOFFSETTO:+0000
TZNAME:UTC
DTSTART:20240101T000000
END:STANDARD
END:VTIMEZONE
BEGIN:VEVENT
DTSTART;TZID=UTC:20250412T180000
DTEND;TZID=UTC:20250412T200000
DTSTAMP:20260425T214045
CREATED:20250302T164309Z
LAST-MODIFIED:20250412T151736Z
UID:26447-1744480800-1744488000@crescentheightsneighborhood.com
SUMMARY:Porch Party - April 12th
DESCRIPTION:Saturday\, April 12th\n6:00-8:00PM at the home of Jane and Gary Gibbons:\n800 29th Ave N.\nAdditional Porch Parties:\nWe would love to have more porch parties on the calendar! \nPlease email Amy Youngs if interested at: amyyoungs1981@yahoo.com
URL:https://crescentheightsneighborhood.com/event/porch-party-april-12th/
LOCATION:800 29th Ave North\, St. Petersburg\, FL 33704\, 800 29th Ave N.\, St. Petersburg\, FL\, 33704\, United States
END:VEVENT
END:VCALENDAR