BEGIN:VCALENDAR
VERSION:2.0
PRODID:-//Crescent Heights Neighborhood Association - ECPv6.15.17.1//NONSGML v1.0//EN
CALSCALE:GREGORIAN
METHOD:PUBLISH
X-WR-CALNAME:Crescent Heights Neighborhood Association
X-ORIGINAL-URL:https://crescentheightsneighborhood.com
X-WR-CALDESC:Events for Crescent Heights Neighborhood Association
REFRESH-INTERVAL;VALUE=DURATION:PT1H
X-Robots-Tag:noindex
X-PUBLISHED-TTL:PT1H
BEGIN:VTIMEZONE
TZID:UTC
BEGIN:STANDARD
TZOFFSETFROM:+0000
TZOFFSETTO:+0000
TZNAME:UTC
DTSTART:20240101T000000
END:STANDARD
END:VTIMEZONE
BEGIN:VEVENT
DTSTART;TZID=UTC:20250303T183000
DTEND;TZID=UTC:20250303T190000
DTSTAMP:20260425T200237
CREATED:20250108T235015Z
LAST-MODIFIED:20250108T235015Z
UID:1911-1741026600-1741028400@crescentheightsneighborhood.com
SUMMARY:CHNA March General Membership Meeting - Monday\, March 3rd
DESCRIPTION:Monday\, March 3rd\, 6:30PM at Blush Tea and Coffee.\nOur speaker will be SP Police Chief Anthony Holloway!
URL:https://crescentheightsneighborhood.com/event/chna-march-general-membership-meeting-monday-march-3rd/
LOCATION:Blush Tea and Coffee\, 2382 Dr MLK Jr Street\, St Petersburg\, FL\, 33704\, United States
END:VEVENT
BEGIN:VEVENT
DTSTART;TZID=UTC:20250307T170000
DTEND;TZID=UTC:20250307T190000
DTSTAMP:20260425T200237
CREATED:20250108T234444Z
LAST-MODIFIED:20250108T234510Z
UID:1908-1741366800-1741374000@crescentheightsneighborhood.com
SUMMARY:Porch Party Friday\, March 7th
DESCRIPTION:Friday\, March 7th\n5:00-7:00PM at the home of Karen Chassin\nand Charles Dew: 843 26th Ave N.\nAdditional Porch Parties:\nWe would love to have more porch parties on the calendar!\nPlease email Amy Youngs if interested at: amyyoungs1981@yahoo.com
URL:https://crescentheightsneighborhood.com/event/porch-party-march-7/
LOCATION:Karen Chassin and Charles Dew\, 843 26th Ave N.\, St. Petersburg\, FL\, 33704\, United States
END:VEVENT
END:VCALENDAR