BEGIN:VCALENDAR
VERSION:2.0
PRODID:-//Crescent Heights Neighborhood Association - ECPv6.15.17.1//NONSGML v1.0//EN
CALSCALE:GREGORIAN
METHOD:PUBLISH
X-ORIGINAL-URL:https://crescentheightsneighborhood.com
X-WR-CALDESC:Events for Crescent Heights Neighborhood Association
REFRESH-INTERVAL;VALUE=DURATION:PT1H
X-Robots-Tag:noindex
X-PUBLISHED-TTL:PT1H
BEGIN:VTIMEZONE
TZID:UTC
BEGIN:STANDARD
TZOFFSETFROM:+0000
TZOFFSETTO:+0000
TZNAME:UTC
DTSTART:20230101T000000
END:STANDARD
END:VTIMEZONE
BEGIN:VEVENT
DTSTART;TZID=UTC:20241104T183000
DTEND;TZID=UTC:20241104T200000
DTSTAMP:20260425T133904
CREATED:20240601T184723Z
LAST-MODIFIED:20240601T192746Z
UID:1712-1730745000-1730750400@crescentheightsneighborhood.com
SUMMARY:CHNA General Membership meeting at Blush Tea and Coffee
DESCRIPTION:Doors open at 6:30 for refreshments\nBlush Tea and Coffee\n2382 Dr. M.L.K. Jr. St. N.
URL:https://crescentheightsneighborhood.com/event/chna-general-membership-meeting-at-blush-tea-and-coffee-nov-4/
LOCATION:Blush Tea and Coffee\, 2382 Dr MLK Jr Street\, St Petersburg\, FL\, 33704\, United States
END:VEVENT
BEGIN:VEVENT
DTSTART;TZID=UTC:20241114T170000
DTEND;TZID=UTC:20241114T210000
DTSTAMP:20260425T133904
CREATED:20240811T175236Z
LAST-MODIFIED:20240811T175236Z
UID:1762-1731603600-1731618000@crescentheightsneighborhood.com
SUMMARY:CHNA Social at Three Birds November 14th
DESCRIPTION:CHNA Social at Three Birds November 14th at 5PM at the South Patio.
URL:https://crescentheightsneighborhood.com/event/chna-social-at-three-birds-november-14th/
END:VEVENT
END:VCALENDAR