BEGIN:VCALENDAR
VERSION:2.0
PRODID:-//Crescent Heights Neighborhood Association - ECPv6.15.17.1//NONSGML v1.0//EN
CALSCALE:GREGORIAN
METHOD:PUBLISH
X-ORIGINAL-URL:https://crescentheightsneighborhood.com
X-WR-CALDESC:Events for Crescent Heights Neighborhood Association
REFRESH-INTERVAL;VALUE=DURATION:PT1H
X-Robots-Tag:noindex
X-PUBLISHED-TTL:PT1H
BEGIN:VTIMEZONE
TZID:UTC
BEGIN:STANDARD
TZOFFSETFROM:+0000
TZOFFSETTO:+0000
TZNAME:UTC
DTSTART:20230101T000000
END:STANDARD
END:VTIMEZONE
BEGIN:VEVENT
DTSTART;TZID=UTC:20240920T180000
DTEND;TZID=UTC:20240920T203000
DTSTAMP:20260425T133919
CREATED:20240811T174838Z
LAST-MODIFIED:20240811T174838Z
UID:1760-1726855200-1726864200@crescentheightsneighborhood.com
SUMMARY:Porch Party Sept 20th
DESCRIPTION:Sept 20th\nat the home of Ziba Mohammidi
URL:https://crescentheightsneighborhood.com/event/porch-party-sept-20th/
END:VEVENT
END:VCALENDAR