BEGIN:VCALENDAR
VERSION:2.0
PRODID:-//Crescent Heights Neighborhood Association - ECPv6.15.17.1//NONSGML v1.0//EN
CALSCALE:GREGORIAN
METHOD:PUBLISH
X-WR-CALNAME:Crescent Heights Neighborhood Association
X-ORIGINAL-URL:https://crescentheightsneighborhood.com
X-WR-CALDESC:Events for Crescent Heights Neighborhood Association
REFRESH-INTERVAL;VALUE=DURATION:PT1H
X-Robots-Tag:noindex
X-PUBLISHED-TTL:PT1H
BEGIN:VTIMEZONE
TZID:UTC
BEGIN:STANDARD
TZOFFSETFROM:+0000
TZOFFSETTO:+0000
TZNAME:UTC
DTSTART:20230101T000000
END:STANDARD
END:VTIMEZONE
BEGIN:VEVENT
DTSTART;TZID=UTC:20241207T170000
DTEND;TZID=UTC:20241207T210000
DTSTAMP:20260425T165415
CREATED:20240601T190327Z
LAST-MODIFIED:20241025T193326Z
UID:1714-1733590800-1733605200@crescentheightsneighborhood.com
SUMMARY:CHNA Lights in the Heights - Dec. 7
DESCRIPTION:Bring your festive self to CHNA Lights in the Heights\nSaturday\, 12/7 at 5 p.m.\,8th St. between 25th & 26th Ave N.\nWalking parade begins at 5 p.m. led by St. Pete HS Marching Band & Santa touring us through our beautifully decorated neighborhood ending at the block party site. \n\nHot Cocoa Bar\ncookie decorating\nholiday crafts\,\ns’mores\ngrazing table\nentertainment by DJ Jessica.\n\nPlease BYOB & dessert to share. Also accepting donations for those impacted by recent hurricanes – charity TBD. \n(2) contest winners will be announced at the block party:Most festive attire & Best holiday home display.
URL:https://crescentheightsneighborhood.com/event/chna-lights-in-the-heights-dec-7/
END:VEVENT
END:VCALENDAR