BEGIN:VCALENDAR
VERSION:2.0
PRODID:-//Crescent Heights Neighborhood Association - ECPv6.15.17.1//NONSGML v1.0//EN
CALSCALE:GREGORIAN
METHOD:PUBLISH
X-ORIGINAL-URL:https://crescentheightsneighborhood.com
X-WR-CALDESC:Events for Crescent Heights Neighborhood Association
REFRESH-INTERVAL;VALUE=DURATION:PT1H
X-Robots-Tag:noindex
X-PUBLISHED-TTL:PT1H
BEGIN:VTIMEZONE
TZID:UTC
BEGIN:STANDARD
TZOFFSETFROM:+0000
TZOFFSETTO:+0000
TZNAME:UTC
DTSTART:20230101T000000
END:STANDARD
END:VTIMEZONE
BEGIN:VEVENT
DTSTART;TZID=UTC:20240826T183000
DTEND;TZID=UTC:20240826T193000
DTSTAMP:20260425T152305
CREATED:20240822T183011Z
LAST-MODIFIED:20240823T133058Z
UID:1756-1724697000-1724700600@crescentheightsneighborhood.com
SUMMARY:Events Committee Meetings
DESCRIPTION:Events Committee meetings are the last Monday of every month beginning August 26th at 6:30 PM.Email Amy at amyyoungs1981@yahoo.com for details.
URL:https://crescentheightsneighborhood.com/event/events-committee-meetings/
END:VEVENT
END:VCALENDAR