BEGIN:VCALENDAR
VERSION:2.0
PRODID:-//Crescent Heights Neighborhood Association - ECPv6.15.17.1//NONSGML v1.0//EN
CALSCALE:GREGORIAN
METHOD:PUBLISH
X-WR-CALNAME:Crescent Heights Neighborhood Association
X-ORIGINAL-URL:https://crescentheightsneighborhood.com
X-WR-CALDESC:Events for Crescent Heights Neighborhood Association
REFRESH-INTERVAL;VALUE=DURATION:PT1H
X-Robots-Tag:noindex
X-PUBLISHED-TTL:PT1H
BEGIN:VTIMEZONE
TZID:UTC
BEGIN:STANDARD
TZOFFSETFROM:+0000
TZOFFSETTO:+0000
TZNAME:UTC
DTSTART:20220101T000000
END:STANDARD
END:VTIMEZONE
BEGIN:VEVENT
DTSTART;TZID=UTC:20230523T190000
DTEND;TZID=UTC:20230523T210000
DTSTAMP:20260420T070139
CREATED:20230403T152440Z
LAST-MODIFIED:20230403T152440Z
UID:982-1684868400-1684875600@crescentheightsneighborhood.com
SUMMARY:Book Club - Group One - May 23rd
DESCRIPTION:Book Club\nGroup One: May 23rd 7:00pm – 9:00pm\nBook: Woman of Light by Kali Fajardo-Anstine\nContact: ejbeckman@comcast.net\nPlease note group one and two are currently full. If you are not currently a member but are interested in participating in the Crescent Heights Book Club\, please send an email to one of the contacts listed above for more information.
URL:https://crescentheightsneighborhood.com/event/book-club-group-one-may-23rd/
END:VEVENT
END:VCALENDAR